BEGIN:VCALENDAR
VERSION:2.0
PRODID:DPCALENDAR
CALSCALE:GREGORIAN
X-WR-TIMEZONE:UTC
BEGIN:VEVENT
DTSTART;VALUE=DATE:20240401
DTEND;VALUE=DATE:20240402
UID:817C834A-F601-471E-AD8F-530B15237BAB
SUMMARY:Osterferien
CREATED:20240405T055628Z
DTSTAMP:20240405T055628Z
URL:https://vskarlstein.ac.at/index.php/termine/osterferien
X-ACCESS:1
X-HITS:0
X-COLOR:d2d2d1
X-SHOW-END-TIME:0
END:VEVENT
BEGIN:VEVENT
DTSTART;VALUE=DATE:20240501
DTEND;VALUE=DATE:20240502
UID:B2B455DB-4147-43D6-BFDA-7EDEE56F2835
SUMMARY:Staatsfeiertag
CREATED:20240405T060019Z
DTSTAMP:20240405T060019Z
URL:https://vskarlstein.ac.at/index.php/termine/staatsfeiertag
X-ACCESS:1
X-HITS:0
X-COLOR:d2d2d1
X-SHOW-END-TIME:0
END:VEVENT
BEGIN:VEVENT
DTSTART;VALUE=DATE:20240509
DTEND;VALUE=DATE:20240510
UID:0881E041-7402-43F1-852C-A0732E0696DE
SUMMARY:Christi Himmelfahrt
CREATED:20240405T060227Z
DTSTAMP:20240405T060227Z
URL:https://vskarlstein.ac.at/index.php/termine/christi-himmelfahrt
X-ACCESS:1
X-HITS:0
X-COLOR:d2d2d1
X-SHOW-END-TIME:0
END:VEVENT
BEGIN:VEVENT
DTSTART;VALUE=DATE:20240510
DTEND;VALUE=DATE:20240511
UID:537BD878-0CE1-4154-AB54-D74636EC8801
SUMMARY:schulautonom frei
CREATED:20240405T060248Z
DTSTAMP:20240405T060248Z
URL:https://vskarlstein.ac.at/index.php/termine/schulautonom-frei
X-ACCESS:1
X-HITS:0
X-COLOR:d2d2d1
X-SHOW-END-TIME:0
END:VEVENT
BEGIN:VEVENT
DTSTART;VALUE=DATE:20240518
DTEND;VALUE=DATE:20240521
UID:0687C692-07BB-408F-8575-798E84F603E8
SUMMARY:Pfingsferien
CREATED:20240405T060506Z
DTSTAMP:20240405T060506Z
URL:https://vskarlstein.ac.at/index.php/termine/pfingsferien
X-ACCESS:1
X-HITS:0
X-COLOR:d2d2d1
X-SHOW-END-TIME:0
END:VEVENT
BEGIN:VEVENT
DTSTART;VALUE=DATE:20240530
DTEND;VALUE=DATE:20240531
UID:51627BC8-128A-4DF3-B064-017B6EF1907A
SUMMARY:Fronleichnam
CREATED:20240405T060525Z
DTSTAMP:20240405T060525Z
URL:https://vskarlstein.ac.at/index.php/termine/fronleichnam
X-ACCESS:1
X-HITS:0
X-COLOR:d2d2d1
X-SHOW-END-TIME:0
END:VEVENT
BEGIN:VEVENT
DTSTART;VALUE=DATE:20240531
DTEND;VALUE=DATE:20240601
UID:FAE8B279-A0F8-45F0-90B0-60F04BA86289
SUMMARY:schulautonom frei
CREATED:20240405T060539Z
DTSTAMP:20240405T060539Z
URL:https://vskarlstein.ac.at/index.php/termine/schulautonom-frei-2
X-ACCESS:1
X-HITS:0
X-COLOR:d2d2d1
X-SHOW-END-TIME:0
END:VEVENT
BEGIN:VEVENT
DTSTART;VALUE=DATE:20241026
DTEND;VALUE=DATE:20241101
UID:F0B50734-D934-4B11-86BC-85CF5EFDE3B5
SUMMARY:Herbstferien 🍂
CREATED:20241011T061229Z
DTSTAMP:20241011T061229Z
URL:https://vskarlstein.ac.at/index.php/termine/herbstferien
LAST-MODIFIED:20241011T061356Z
SEQUENCE:87
X-ACCESS:1
X-HITS:0
X-COLOR:d2d2d1
X-SHOW-END-TIME:0
END:VEVENT
BEGIN:VEVENT
DTSTART;VALUE=DATE:20241101
DTEND;VALUE=DATE:20241102
UID:9FE82488-75B8-4978-8253-FC1973090CC6
SUMMARY:Allerheiligen 
CREATED:20241011T061417Z
DTSTAMP:20241011T061417Z
URL:https://vskarlstein.ac.at/index.php/termine/allerheiligen
LAST-MODIFIED:20241011T061519Z
SEQUENCE:62
X-ACCESS:1
X-HITS:0
X-COLOR:d2d2d1
X-SHOW-END-TIME:0
END:VEVENT
BEGIN:VEVENT
DTSTART;VALUE=DATE:20241102
DTEND;VALUE=DATE:20241103
UID:F8507120-E9FB-4BA5-8CC0-E06034016174
SUMMARY:Allerseelen 🪦
CREATED:20241011T061449Z
DTSTAMP:20241011T061449Z
URL:https://vskarlstein.ac.at/index.php/termine/allerseelen
LAST-MODIFIED:20241011T061541Z
SEQUENCE:52
X-ACCESS:1
X-HITS:0
X-COLOR:d2d2d1
X-SHOW-END-TIME:0
END:VEVENT
BEGIN:VEVENT
DTSTART;TZID=UTC:20241115T060000
DTEND;TZID=UTC:20241115T070000
UID:6C83006C-D846-4562-A02B-221CF235A153
SUMMARY:Heiliger Leopold - Landespatron 😇
CREATED:20241113T065645Z
DTSTAMP:20241113T065645Z
URL:https://vskarlstein.ac.at/index.php/termine/heiliger-leopold-landespatron
LAST-MODIFIED:20241113T065645Z
SEQUENCE:0
X-ACCESS:1
X-HITS:0
X-COLOR:d2d2d1
X-SHOW-END-TIME:0
END:VEVENT
BEGIN:VEVENT
DTSTART;VALUE=DATE:20241223
DTEND;VALUE=DATE:20250107
UID:37666816-9531-4866-A986-05A38EB5D30E
SUMMARY:Weihnachtsferien 🎄
CREATED:20240904T074209Z
DTSTAMP:20240904T074209Z
URL:https://vskarlstein.ac.at/index.php/termine/weihnachtsferien
LAST-MODIFIED:20241119T085404Z
SEQUENCE:6570715
X-ACCESS:1
X-HITS:0
X-COLOR:d2d2d1
X-SHOW-END-TIME:0
END:VEVENT
BEGIN:VEVENT
DTSTART;TZID=UTC:20250203T070000
DTEND;TZID=UTC:20250209T080000
UID:C07D2EB0-D00D-43B6-AFED-7F3C92804A3D
SUMMARY:Semesterferien ⛷️
CREATED:20240904T074129Z
DTSTAMP:20240904T074129Z
URL:https://vskarlstein.ac.at/index.php/termine/semesterferien
LAST-MODIFIED:20250121T070721Z
SEQUENCE:12007552
X-ACCESS:1
X-HITS:0
X-COLOR:d2d2d1
X-SHOW-END-TIME:0
END:VEVENT
BEGIN:VEVENT
DTSTART;VALUE=DATE:20250412
DTEND;VALUE=DATE:20250422
UID:5E0436D7-A99B-46ED-9519-BE1E40ADB54F
SUMMARY:Osterferien 🥚
CREATED:20240904T074248Z
DTSTAMP:20240904T074248Z
URL:https://vskarlstein.ac.at/index.php/termine/osterferien-2
LAST-MODIFIED:20250228T073639Z
SEQUENCE:15292431
X-ACCESS:1
X-HITS:0
X-COLOR:d2d2d1
X-SHOW-END-TIME:0
END:VEVENT
BEGIN:VEVENT
DTSTART;VALUE=DATE:20250501
DTEND;VALUE=DATE:20250502
UID:4F48C9F6-EBE9-4E75-A208-C8A710B1C17D
SUMMARY:Staatsfeiertag 🏳️‍⚧️
CREATED:20241119T094707Z
DTSTAMP:20241119T094707Z
URL:https://vskarlstein.ac.at/index.php/termine/staatsfeiertag-2
LAST-MODIFIED:20241119T094907Z
SEQUENCE:120
X-ACCESS:1
X-HITS:0
X-COLOR:d2d2d1
X-SHOW-END-TIME:0
END:VEVENT
BEGIN:VEVENT
DTSTART;VALUE=DATE:20250502
DTEND;VALUE=DATE:20250503
UID:6E74000A-A52F-4A11-865B-008BEA10B808
SUMMARY:schulautonom frei
CREATED:20241007T113145Z
DTSTAMP:20241007T113145Z
URL:https://vskarlstein.ac.at/index.php/termine/schulautonom-frei-3
LAST-MODIFIED:20250228T073659Z
SEQUENCE:12427514
X-ACCESS:1
X-HITS:0
X-COLOR:d2d2d1
X-SHOW-END-TIME:0
END:VEVENT
BEGIN:VEVENT
DTSTART;VALUE=DATE:20250529
DTEND;VALUE=DATE:20250530
UID:8513667B-A7E5-4B45-9C42-C16AA986B2E3
SUMMARY:Christi Himmelfahrt ☁️
CREATED:20241119T094723Z
DTSTAMP:20241119T094723Z
URL:https://vskarlstein.ac.at/index.php/termine/christi-himmelfahrt-2
LAST-MODIFIED:20241119T094948Z
SEQUENCE:145
X-ACCESS:1
X-HITS:0
X-COLOR:d2d2d1
X-SHOW-END-TIME:0
END:VEVENT
BEGIN:VEVENT
DTSTART;VALUE=DATE:20250530
DTEND;VALUE=DATE:20250531
UID:98072FA9-63FC-40E6-99A9-1FC979AE1726
SUMMARY:schulautonom frei
CREATED:20241007T113201Z
DTSTAMP:20241007T113201Z
URL:https://vskarlstein.ac.at/index.php/termine/schulautonom-frei-4
LAST-MODIFIED:20250228T073759Z
SEQUENCE:12427558
X-ACCESS:1
X-HITS:0
X-COLOR:d2d2d1
X-SHOW-END-TIME:0
END:VEVENT
BEGIN:VEVENT
DTSTART;VALUE=DATE:20250607
DTEND;VALUE=DATE:20250610
UID:36786C0C-7B82-45E9-8337-75207ED520C1
SUMMARY:Pfingsferien 🔥
CREATED:20240904T074554Z
DTSTAMP:20240904T074554Z
URL:https://vskarlstein.ac.at/index.php/termine/pfingsferien-2
LAST-MODIFIED:20250228T073743Z
SEQUENCE:15292309
X-ACCESS:1
X-HITS:0
X-COLOR:d2d2d1
X-SHOW-END-TIME:0
END:VEVENT
BEGIN:VEVENT
DTSTART;VALUE=DATE:20250619
DTEND;VALUE=DATE:20250620
UID:B362F1B5-5828-487F-8C91-8D8A38D7F010
SUMMARY:Fronleichnam 💐
CREATED:20241119T094737Z
DTSTAMP:20241119T094737Z
URL:https://vskarlstein.ac.at/index.php/termine/fronleichnam-2
LAST-MODIFIED:20241119T094800Z
SEQUENCE:23
X-ACCESS:1
X-HITS:0
X-COLOR:d2d2d1
X-SHOW-END-TIME:0
END:VEVENT
BEGIN:VEVENT
DTSTART;VALUE=DATE:20250628
DTEND;VALUE=DATE:20250901
UID:DCD15EEE-E335-4B5A-8968-25DC2643C195
SUMMARY:Sommerferien 🏊‍♂️🍨
CREATED:20250219T064211Z
DTSTAMP:20250219T064211Z
URL:https://vskarlstein.ac.at/index.php/termine/sommerferien
LAST-MODIFIED:20250219T064259Z
SEQUENCE:48
X-ACCESS:1
X-HITS:0
X-COLOR:d2d2d1
X-SHOW-END-TIME:0
END:VEVENT
BEGIN:VEVENT
DTSTART;VALUE=DATE:20251027
DTEND;VALUE=DATE:20251101
UID:3972D563-37FC-41CD-BABD-32EC5C2F7BC0
SUMMARY:Herbstferien 🍂
CREATED:20250924T091822Z
DTSTAMP:20250924T091822Z
URL:https://vskarlstein.ac.at/index.php/termine/herbstferien-2
LAST-MODIFIED:20250924T175237Z
SEQUENCE:30855
X-ACCESS:1
X-HITS:0
X-COLOR:d2d2d1
X-SHOW-END-TIME:0
END:VEVENT
BEGIN:VEVENT
DTSTART;VALUE=DATE:20251101
DTEND;VALUE=DATE:20251102
UID:30622138-02FE-4303-8968-5418FC8A1989
SUMMARY:Allerheiligen
CREATED:20250924T092035Z
DTSTAMP:20250924T092035Z
URL:https://vskarlstein.ac.at/index.php/termine/allerheiligen-2
LAST-MODIFIED:20250924T092035Z
SEQUENCE:0
X-ACCESS:1
X-HITS:0
X-COLOR:d2d2d1
X-SHOW-END-TIME:1
END:VEVENT
BEGIN:VEVENT
DTSTART;VALUE=DATE:20251102
DTEND;VALUE=DATE:20251103
UID:EB595563-B03A-486E-BDEA-8CAD142638AB
SUMMARY:Allerseelen
CREATED:20250924T092055Z
DTSTAMP:20250924T092055Z
URL:https://vskarlstein.ac.at/index.php/termine/allerseelen-2
LAST-MODIFIED:20250924T092055Z
SEQUENCE:0
X-ACCESS:1
X-HITS:0
X-COLOR:d2d2d1
X-SHOW-END-TIME:1
END:VEVENT
BEGIN:VEVENT
DTSTART;VALUE=DATE:20251115
DTEND;VALUE=DATE:20251116
UID:07231E21-0290-44D3-9346-4C1333E81725
SUMMARY:Heiliger Leopold - Landespatron 😇
CREATED:20251104T070012Z
DTSTAMP:20251104T070012Z
URL:https://vskarlstein.ac.at/index.php/termine/heiliger-leopold-landespatron-2
LAST-MODIFIED:20251104T070012Z
SEQUENCE:0
X-ACCESS:1
X-HITS:0
X-COLOR:d2d2d1
X-SHOW-END-TIME:0
END:VEVENT
BEGIN:VEVENT
DTSTART;VALUE=DATE:20251224
DTEND;VALUE=DATE:20260107
UID:D7420808-3997-4F56-847B-A7B272A6B171
SUMMARY:Weihnachtsferien 🎄
CREATED:20250924T180002Z
DTSTAMP:20250924T180002Z
URL:https://vskarlstein.ac.at/index.php/termine/weihnachtsferien-2
LAST-MODIFIED:20250924T180002Z
SEQUENCE:0
X-ACCESS:1
X-HITS:0
X-COLOR:d2d2d1
X-SHOW-END-TIME:0
END:VEVENT
BEGIN:VEVENT
DTSTART;VALUE=DATE:20260202
DTEND;VALUE=DATE:20260207
UID:5CC36D40-0314-43EB-A09F-1155BCCA69A3
SUMMARY:Semesterferien ❄
CREATED:20250924T180453Z
DTSTAMP:20250924T180453Z
URL:https://vskarlstein.ac.at/index.php/termine/semesterferien-2
LAST-MODIFIED:20250924T181640Z
SEQUENCE:707
X-ACCESS:1
X-HITS:0
X-COLOR:d2d2d1
X-SHOW-END-TIME:1
END:VEVENT
BEGIN:VEVENT
DTSTART;VALUE=DATE:20260330
DTEND;VALUE=DATE:20260407
UID:514C8597-23D5-465C-81C7-A5384A539DAD
SUMMARY:Osterferien 🐇
CREATED:20250924T181018Z
DTSTAMP:20250924T181018Z
URL:https://vskarlstein.ac.at/index.php/termine/osterferien-3
LAST-MODIFIED:20250924T181018Z
SEQUENCE:0
X-ACCESS:1
X-HITS:0
X-COLOR:d2d2d1
X-SHOW-END-TIME:0
END:VEVENT
BEGIN:VEVENT
DTSTART;VALUE=DATE:20260514
DTEND;VALUE=DATE:20260515
UID:940163EC-D449-4B21-B58A-160B6925854E
SUMMARY:Christi Himmelfahrt ☁️
CREATED:20260316T080833Z
DTSTAMP:20260316T080833Z
URL:https://vskarlstein.ac.at/index.php/termine/christi-himmelfahrt-3
DESCRIPTION:        
X-ALT-DESC;FMTTYPE=text/html:        
LAST-MODIFIED:20260316T080938Z
SEQUENCE:65
X-ACCESS:1
X-HITS:0
X-COLOR:d2d2d1
X-SHOW-END-TIME:0
END:VEVENT
BEGIN:VEVENT
DTSTART;VALUE=DATE:20260523
DTEND;VALUE=DATE:20260526
UID:6F4CFBA2-41EA-4D9A-917F-791EDBD55ADA
SUMMARY:Pfingstferien
CREATED:20250924T181435Z
DTSTAMP:20250924T181435Z
URL:https://vskarlstein.ac.at/index.php/termine/pfingstferien
LAST-MODIFIED:20250924T181435Z
SEQUENCE:0
X-ACCESS:1
X-HITS:0
X-COLOR:d2d2d1
X-SHOW-END-TIME:1
END:VEVENT
BEGIN:VEVENT
DTSTART;VALUE=DATE:20260604
DTEND;VALUE=DATE:20260605
UID:B0921E3C-EC56-4B66-A32F-5F9B804D50EA
SUMMARY:Fronleichnam 💐
CREATED:20251112T082624Z
DTSTAMP:20251112T082624Z
URL:https://vskarlstein.ac.at/index.php/termine/fronleichnam-3
LAST-MODIFIED:20251112T082701Z
SEQUENCE:37
X-ACCESS:1
X-HITS:0
X-COLOR:d2d2d1
X-SHOW-END-TIME:0
END:VEVENT
BEGIN:VEVENT
DTSTART;VALUE=DATE:20260605
DTEND;VALUE=DATE:20260606
UID:6F162721-8BFD-4132-A831-C5CE4C179D4E
SUMMARY:schulautonomer Tag
CREATED:20250924T181557Z
DTSTAMP:20250924T181557Z
URL:https://vskarlstein.ac.at/index.php/termine/schulautonomer-tag
LAST-MODIFIED:20250924T181557Z
SEQUENCE:0
X-ACCESS:1
X-HITS:0
X-COLOR:d2d2d1
X-SHOW-END-TIME:1
END:VEVENT
BEGIN:VEVENT
DTSTART;VALUE=DATE:20260704
DTEND;VALUE=DATE:20260907
UID:9DB552E3-CEF4-489C-B300-D246039FB450
SUMMARY:Sommerferien 🏊‍♂️🍨
CREATED:20260316T081010Z
DTSTAMP:20260316T081010Z
URL:https://vskarlstein.ac.at/index.php/termine/sommerferien-2
DESCRIPTION:    
X-ALT-DESC;FMTTYPE=text/html:    
LAST-MODIFIED:20260316T081010Z
SEQUENCE:0
X-ACCESS:1
X-HITS:0
X-COLOR:d2d2d1
X-SHOW-END-TIME:0
END:VEVENT
END:VCALENDAR